BEGIN:VCALENDAR
VERSION:2.0
PRODID:-//Deb Browning Music - ECPv6.15.17.1//NONSGML v1.0//EN
CALSCALE:GREGORIAN
METHOD:PUBLISH
X-WR-CALNAME:Deb Browning Music
X-ORIGINAL-URL:https://www.debbrowningmusic.com
X-WR-CALDESC:Events for Deb Browning Music
REFRESH-INTERVAL;VALUE=DURATION:PT1H
X-Robots-Tag:noindex
X-PUBLISHED-TTL:PT1H
BEGIN:VTIMEZONE
TZID:America/New_York
BEGIN:DAYLIGHT
TZOFFSETFROM:-0500
TZOFFSETTO:-0400
TZNAME:EDT
DTSTART:20200308T070000
END:DAYLIGHT
BEGIN:STANDARD
TZOFFSETFROM:-0400
TZOFFSETTO:-0500
TZNAME:EST
DTSTART:20201101T060000
END:STANDARD
BEGIN:DAYLIGHT
TZOFFSETFROM:-0500
TZOFFSETTO:-0400
TZNAME:EDT
DTSTART:20210314T070000
END:DAYLIGHT
BEGIN:STANDARD
TZOFFSETFROM:-0400
TZOFFSETTO:-0500
TZNAME:EST
DTSTART:20211107T060000
END:STANDARD
BEGIN:DAYLIGHT
TZOFFSETFROM:-0500
TZOFFSETTO:-0400
TZNAME:EDT
DTSTART:20220313T070000
END:DAYLIGHT
BEGIN:STANDARD
TZOFFSETFROM:-0400
TZOFFSETTO:-0500
TZNAME:EST
DTSTART:20221106T060000
END:STANDARD
END:VTIMEZONE
BEGIN:VEVENT
DTSTART;TZID=America/New_York:20211001T180000
DTEND;TZID=America/New_York:20211001T220000
DTSTAMP:20260421T185210
CREATED:20210505T200342Z
LAST-MODIFIED:20210505T200342Z
UID:1450-1633111200-1633125600@www.debbrowningmusic.com
SUMMARY:Private Event Marina Party October 1st
DESCRIPTION:
URL:https://www.debbrowningmusic.com/event/private-event-marina-party-october-1st/
LOCATION:SC
END:VEVENT
BEGIN:VEVENT
DTSTART;TZID=America/New_York:20210925T180000
DTEND;TZID=America/New_York:20210925T210000
DTSTAMP:20260421T185210
CREATED:20210505T200303Z
LAST-MODIFIED:20210505T200303Z
UID:1448-1632592800-1632603600@www.debbrowningmusic.com
SUMMARY:World Of Beer September 25th
DESCRIPTION:
URL:https://www.debbrowningmusic.com/event/world-of-beer-september-25th/
LOCATION:World of Beer\, 1386 US 17 North\, North Myrtle Beach\, SC\, 29582\, United States
END:VEVENT
BEGIN:VEVENT
DTSTART;TZID=America/New_York:20210924T180000
DTEND;TZID=America/New_York:20210924T210000
DTSTAMP:20260421T185210
CREATED:20210705T222518Z
LAST-MODIFIED:20210705T223152Z
UID:1756-1632506400-1632517200@www.debbrowningmusic.com
SUMMARY:American Legion September 24th
DESCRIPTION:
URL:https://www.debbrowningmusic.com/event/american-legion-september-24th/
LOCATION:American Legion\, 4285 Pine Drive\, Little River\, SC\, 29566\, United States
END:VEVENT
BEGIN:VEVENT
DTSTART;TZID=America/New_York:20210922T163000
DTEND;TZID=America/New_York:20210922T203000
DTSTAMP:20260421T185210
CREATED:20210505T200225Z
LAST-MODIFIED:20210505T200225Z
UID:1446-1632328200-1632342600@www.debbrowningmusic.com
SUMMARY:Patio's September 22nd
DESCRIPTION:
URL:https://www.debbrowningmusic.com/event/patios-september-22nd/
LOCATION:Patio’s\, 4495 Mineola Avenue\, Little River\, SC\, 29566\, United States
END:VEVENT
BEGIN:VEVENT
DTSTART;TZID=America/New_York:20210910T170000
DTEND;TZID=America/New_York:20210910T200000
DTSTAMP:20260421T185210
CREATED:20210505T200148Z
LAST-MODIFIED:20210505T200148Z
UID:1444-1631293200-1631304000@www.debbrowningmusic.com
SUMMARY:Private Event Raleigh\, NC Wedding September 10th
DESCRIPTION:
URL:https://www.debbrowningmusic.com/event/private-event-raleigh-nc-wedding-september-10th/
LOCATION:SC
END:VEVENT
BEGIN:VEVENT
DTSTART;TZID=America/New_York:20210905T170000
DTEND;TZID=America/New_York:20210905T200000
DTSTAMP:20260421T185210
CREATED:20210505T200100Z
LAST-MODIFIED:20210505T200100Z
UID:1442-1630861200-1630872000@www.debbrowningmusic.com
SUMMARY:Private Event Riverlights Wilmington\, NC September 5th
DESCRIPTION:
URL:https://www.debbrowningmusic.com/event/private-event-riverlights-wilmington-nc-september-5th/
LOCATION:SC
END:VEVENT
BEGIN:VEVENT
DTSTART;TZID=America/New_York:20210904T180000
DTEND;TZID=America/New_York:20210904T210000
DTSTAMP:20260421T185210
CREATED:20210505T200001Z
LAST-MODIFIED:20210505T200001Z
UID:1440-1630778400-1630789200@www.debbrowningmusic.com
SUMMARY:World Of Beer September 4th
DESCRIPTION:
URL:https://www.debbrowningmusic.com/event/world-of-beer-september-4th/
LOCATION:World of Beer\, 1386 US 17 North\, North Myrtle Beach\, SC\, 29582\, United States
END:VEVENT
BEGIN:VEVENT
DTSTART;TZID=America/New_York:20210901T163000
DTEND;TZID=America/New_York:20210901T203000
DTSTAMP:20260421T185210
CREATED:20210505T195817Z
LAST-MODIFIED:20210709T124643Z
UID:1436-1630513800-1630528200@www.debbrowningmusic.com
SUMMARY:Patio's September 1
DESCRIPTION:
URL:https://www.debbrowningmusic.com/event/patios-august-28th/
LOCATION:Patio’s\, 4495 Mineola Avenue\, Little River\, SC\, 29566\, United States
END:VEVENT
BEGIN:VEVENT
DTSTART;TZID=America/New_York:20210830T180000
DTEND;TZID=America/New_York:20210830T210000
DTSTAMP:20260421T185210
CREATED:20210527T115615Z
LAST-MODIFIED:20210527T115615Z
UID:1741-1630346400-1630357200@www.debbrowningmusic.com
SUMMARY:Buoy’s On The Boulevard August 30th
DESCRIPTION:
URL:https://www.debbrowningmusic.com/event/buoys-on-the-boulevard-august-30th/
LOCATION:Buoy’s On The Blvd\, 935 Ocean BLVD\, North Myrtle Beach\, SC\, 29582\, United States
END:VEVENT
BEGIN:VEVENT
DTSTART;TZID=America/New_York:20210829T170000
DTEND;TZID=America/New_York:20210829T200000
DTSTAMP:20260421T185210
CREATED:20210505T195853Z
LAST-MODIFIED:20210505T195853Z
UID:1438-1630256400-1630267200@www.debbrowningmusic.com
SUMMARY:Private Event Pool Party - August 29th
DESCRIPTION:
URL:https://www.debbrowningmusic.com/event/private-event-pool-party-august-29th/
LOCATION:SC
END:VEVENT
BEGIN:VEVENT
DTSTART;TZID=America/New_York:20210825T170000
DTEND;TZID=America/New_York:20210825T210000
DTSTAMP:20260421T185210
CREATED:20210505T195720Z
LAST-MODIFIED:20210505T195720Z
UID:1434-1629910800-1629925200@www.debbrowningmusic.com
SUMMARY:Mojo's Marina Bar & Grill August 25th
DESCRIPTION:
URL:https://www.debbrowningmusic.com/event/mojos-marina-bar-grill-august-25th/
LOCATION:Mojo’s Marina Bar & Grill\, 4139 Business US 17\, Murrells Inlet\, SC\, 29576\, United States
END:VEVENT
BEGIN:VEVENT
DTSTART;TZID=America/New_York:20210821T180000
DTEND;TZID=America/New_York:20210821T210000
DTSTAMP:20260421T185210
CREATED:20210505T195624Z
LAST-MODIFIED:20210505T195624Z
UID:1432-1629568800-1629579600@www.debbrowningmusic.com
SUMMARY:World Of Beer August 21st
DESCRIPTION:
URL:https://www.debbrowningmusic.com/event/world-of-beer-august-21st/
LOCATION:World of Beer\, 1386 US 17 North\, North Myrtle Beach\, SC\, 29582\, United States
END:VEVENT
BEGIN:VEVENT
DTSTART;TZID=America/New_York:20210820T170000
DTEND;TZID=America/New_York:20210820T210000
DTSTAMP:20260421T185210
CREATED:20210705T222820Z
LAST-MODIFIED:20210705T223504Z
UID:1758-1629478800-1629493200@www.debbrowningmusic.com
SUMMARY:Mojo’s Marina Bar & Grill
DESCRIPTION:
URL:https://www.debbrowningmusic.com/event/mojos-marina-bar-grill/
LOCATION:Mojo’s Marina Bar & Grill\, 4139 Business US 17\, Murrells Inlet\, SC\, 29576\, United States
END:VEVENT
BEGIN:VEVENT
DTSTART;TZID=America/New_York:20210816T170000
DTEND;TZID=America/New_York:20210816T210000
DTSTAMP:20260421T185210
CREATED:20210720T160616Z
LAST-MODIFIED:20210720T161005Z
UID:1781-1629133200-1629147600@www.debbrowningmusic.com
SUMMARY:Private Event Murrells Inlet August 16th
DESCRIPTION:
URL:https://www.debbrowningmusic.com/event/private-event-murrells-inlet-august-16th/
LOCATION:SC
END:VEVENT
BEGIN:VEVENT
DTSTART;TZID=America/New_York:20210813T180000
DTEND;TZID=America/New_York:20210813T210000
DTSTAMP:20260421T185210
CREATED:20210705T222423Z
LAST-MODIFIED:20210705T222423Z
UID:1754-1628877600-1628888400@www.debbrowningmusic.com
SUMMARY:American Legion August 13th
DESCRIPTION:
URL:https://www.debbrowningmusic.com/event/american-legion-august-13th/
LOCATION:American Legion\, 4285 Pine Drive\, Little River\, SC\, 29566\, United States
END:VEVENT
BEGIN:VEVENT
DTSTART;TZID=America/New_York:20210730T170000
DTEND;TZID=America/New_York:20210730T200000
DTSTAMP:20260421T185210
CREATED:20210525T145952Z
LAST-MODIFIED:20210525T145952Z
UID:1736-1627664400-1627675200@www.debbrowningmusic.com
SUMMARY:Private Event Wilmington\, NC
DESCRIPTION:
URL:https://www.debbrowningmusic.com/event/private-event-wilmington-nc/
LOCATION:SC
END:VEVENT
BEGIN:VEVENT
DTSTART;TZID=America/New_York:20210724T180000
DTEND;TZID=America/New_York:20210724T210000
DTSTAMP:20260421T185210
CREATED:20210505T195448Z
LAST-MODIFIED:20210505T195448Z
UID:1428-1627149600-1627160400@www.debbrowningmusic.com
SUMMARY:World of Beer July 24th
DESCRIPTION:
URL:https://www.debbrowningmusic.com/event/world-of-beer-july-24th/
LOCATION:World of Beer\, 1386 US 17 North\, North Myrtle Beach\, SC\, 29582\, United States
END:VEVENT
BEGIN:VEVENT
DTSTART;TZID=America/New_York:20210721T163000
DTEND;TZID=America/New_York:20210721T203000
DTSTAMP:20260421T185210
CREATED:20210505T195415Z
LAST-MODIFIED:20210505T195415Z
UID:1426-1626885000-1626899400@www.debbrowningmusic.com
SUMMARY:Patio's July 21st
DESCRIPTION:
URL:https://www.debbrowningmusic.com/event/patios-july-21st/
LOCATION:Patio’s\, 4495 Mineola Avenue\, Little River\, SC\, 29566\, United States
END:VEVENT
BEGIN:VEVENT
DTSTART;TZID=America/New_York:20210714T170000
DTEND;TZID=America/New_York:20210714T210000
DTSTAMP:20260421T185210
CREATED:20210505T195341Z
LAST-MODIFIED:20210505T195341Z
UID:1424-1626282000-1626296400@www.debbrowningmusic.com
SUMMARY:Mojo's Marina Bar & Grill July 14th
DESCRIPTION:
URL:https://www.debbrowningmusic.com/event/mojos-marina-bar-grill-july-14th/
LOCATION:Mojo’s Marina Bar & Grill\, 4139 Business US 17\, Murrells Inlet\, SC\, 29576\, United States
END:VEVENT
BEGIN:VEVENT
DTSTART;TZID=America/New_York:20210711T180000
DTEND;TZID=America/New_York:20210711T210000
DTSTAMP:20260421T185210
CREATED:20210505T195245Z
LAST-MODIFIED:20210505T195245Z
UID:1422-1626026400-1626037200@www.debbrowningmusic.com
SUMMARY:Buoy's On The Boulevard July 11th
DESCRIPTION:
URL:https://www.debbrowningmusic.com/event/buoys-on-the-boulevard-july-11th/
LOCATION:Buoy’s On The Blvd\, 935 Ocean BLVD\, North Myrtle Beach\, SC\, 29582\, United States
END:VEVENT
BEGIN:VEVENT
DTSTART;TZID=America/New_York:20210709T180000
DTEND;TZID=America/New_York:20210709T210000
DTSTAMP:20260421T185210
CREATED:20210705T222218Z
LAST-MODIFIED:20210705T222218Z
UID:1752-1625853600-1625864400@www.debbrowningmusic.com
SUMMARY:American Legion July 9th
DESCRIPTION:
URL:https://www.debbrowningmusic.com/event/american-legion-july-9th/
LOCATION:American Legion\, 4285 Pine Drive\, Little River\, SC\, 29566\, United States
END:VEVENT
BEGIN:VEVENT
DTSTART;TZID=America/New_York:20210708T190000
DTEND;TZID=America/New_York:20210708T230000
DTSTAMP:20260421T185210
CREATED:20210527T115511Z
LAST-MODIFIED:20210527T115511Z
UID:1739-1625770800-1625785200@www.debbrowningmusic.com
SUMMARY:DECKERZ July 8th
DESCRIPTION:
URL:https://www.debbrowningmusic.com/event/deckerz-july-8th/
LOCATION:DECKERZ\, 90 Hillside Drive\, North Myrtle Beach\, SC\, 29582\, United States
END:VEVENT
BEGIN:VEVENT
DTSTART;TZID=America/New_York:20210629T180000
DTEND;TZID=America/New_York:20210629T210000
DTSTAMP:20260421T185210
CREATED:20210505T195209Z
LAST-MODIFIED:20210505T195209Z
UID:1420-1624989600-1625000400@www.debbrowningmusic.com
SUMMARY:The Marina Bar & Grill June 29th
DESCRIPTION:
URL:https://www.debbrowningmusic.com/event/the-marina-bar-grill-june-29th/
LOCATION:The Marina Bar & Grill\, 2051 Bridge View Court\, Myrtle Beach\, SC\, 29577\, United States
END:VEVENT
BEGIN:VEVENT
DTSTART;TZID=America/New_York:20210627T170000
DTEND;TZID=America/New_York:20210627T200000
DTSTAMP:20260421T185210
CREATED:20210505T195042Z
LAST-MODIFIED:20210505T195042Z
UID:1418-1624813200-1624824000@www.debbrowningmusic.com
SUMMARY:Private Event Lightkeepers June 27th
DESCRIPTION:
URL:https://www.debbrowningmusic.com/event/private-event-lightkeepers-june-27th/
LOCATION:SC
END:VEVENT
BEGIN:VEVENT
DTSTART;TZID=America/New_York:20210626T180000
DTEND;TZID=America/New_York:20210626T210000
DTSTAMP:20260421T185210
CREATED:20210505T195002Z
LAST-MODIFIED:20210505T195002Z
UID:1416-1624730400-1624741200@www.debbrowningmusic.com
SUMMARY:World Of Beer June 26th
DESCRIPTION:
URL:https://www.debbrowningmusic.com/event/world-of-beer-june-26th/
LOCATION:World of Beer\, 1386 US 17 North\, North Myrtle Beach\, SC\, 29582\, United States
END:VEVENT
BEGIN:VEVENT
DTSTART;TZID=America/New_York:20210624T163000
DTEND;TZID=America/New_York:20210624T203000
DTSTAMP:20260421T185210
CREATED:20210505T194812Z
LAST-MODIFIED:20210505T194812Z
UID:1412-1624552200-1624566600@www.debbrowningmusic.com
SUMMARY:Patio's June 24th
DESCRIPTION:
URL:https://www.debbrowningmusic.com/event/patios-june-24th/
LOCATION:Patio’s\, 4495 Mineola Avenue\, Little River\, SC\, 29566\, United States
END:VEVENT
BEGIN:VEVENT
DTSTART;TZID=America/New_York:20210620T180000
DTEND;TZID=America/New_York:20210620T210000
DTSTAMP:20260421T185210
CREATED:20210505T194736Z
LAST-MODIFIED:20210505T194736Z
UID:1410-1624212000-1624222800@www.debbrowningmusic.com
SUMMARY:Buoy's On The Boulevard June 20
DESCRIPTION:
URL:https://www.debbrowningmusic.com/event/buoys-on-the-boulevard-june-20/
LOCATION:Buoy’s On The Blvd\, 935 Ocean BLVD\, North Myrtle Beach\, SC\, 29582\, United States
END:VEVENT
BEGIN:VEVENT
DTSTART;TZID=America/New_York:20210616T170000
DTEND;TZID=America/New_York:20210616T210000
DTSTAMP:20260421T185210
CREATED:20210505T194624Z
LAST-MODIFIED:20210505T194624Z
UID:1408-1623862800-1623877200@www.debbrowningmusic.com
SUMMARY:Mojo's Marina Bar & Grill June 16th
DESCRIPTION:
URL:https://www.debbrowningmusic.com/event/mojos-marina-bar-grill-june-16th/
LOCATION:Mojo’s Marina Bar & Grill\, 4139 Business US 17\, Murrells Inlet\, SC\, 29576\, United States
END:VEVENT
BEGIN:VEVENT
DTSTART;TZID=America/New_York:20210612T180000
DTEND;TZID=America/New_York:20210612T210000
DTSTAMP:20260421T185210
CREATED:20210505T194504Z
LAST-MODIFIED:20210505T194504Z
UID:1405-1623520800-1623531600@www.debbrowningmusic.com
SUMMARY:World Of Beer June 12th
DESCRIPTION:
URL:https://www.debbrowningmusic.com/event/world-of-beer-june-12th/
LOCATION:World of Beer\, 1386 US 17 North\, North Myrtle Beach\, SC\, 29582\, United States
END:VEVENT
BEGIN:VEVENT
DTSTART;TZID=America/New_York:20210606T180000
DTEND;TZID=America/New_York:20210606T210000
DTSTAMP:20260421T185210
CREATED:20210505T194340Z
LAST-MODIFIED:20210505T194340Z
UID:1402-1623002400-1623013200@www.debbrowningmusic.com
SUMMARY:Buoy's On The Boulevard June 6th
DESCRIPTION:
URL:https://www.debbrowningmusic.com/event/buoys-on-the-boulevard-june-6th/
LOCATION:Buoy’s On The Blvd\, 935 Ocean BLVD\, North Myrtle Beach\, SC\, 29582\, United States
END:VEVENT
END:VCALENDAR