BEGIN:VCALENDAR
VERSION:2.0
PRODID:-//Deb Browning Music - ECPv6.15.17.1//NONSGML v1.0//EN
CALSCALE:GREGORIAN
METHOD:PUBLISH
X-WR-CALNAME:Deb Browning Music
X-ORIGINAL-URL:https://www.debbrowningmusic.com
X-WR-CALDESC:Events for Deb Browning Music
REFRESH-INTERVAL;VALUE=DURATION:PT1H
X-Robots-Tag:noindex
X-PUBLISHED-TTL:PT1H
BEGIN:VTIMEZONE
TZID:America/New_York
BEGIN:DAYLIGHT
TZOFFSETFROM:-0500
TZOFFSETTO:-0400
TZNAME:EDT
DTSTART:20200308T070000
END:DAYLIGHT
BEGIN:STANDARD
TZOFFSETFROM:-0400
TZOFFSETTO:-0500
TZNAME:EST
DTSTART:20201101T060000
END:STANDARD
BEGIN:DAYLIGHT
TZOFFSETFROM:-0500
TZOFFSETTO:-0400
TZNAME:EDT
DTSTART:20210314T070000
END:DAYLIGHT
BEGIN:STANDARD
TZOFFSETFROM:-0400
TZOFFSETTO:-0500
TZNAME:EST
DTSTART:20211107T060000
END:STANDARD
BEGIN:DAYLIGHT
TZOFFSETFROM:-0500
TZOFFSETTO:-0400
TZNAME:EDT
DTSTART:20220313T070000
END:DAYLIGHT
BEGIN:STANDARD
TZOFFSETFROM:-0400
TZOFFSETTO:-0500
TZNAME:EST
DTSTART:20221106T060000
END:STANDARD
END:VTIMEZONE
BEGIN:VEVENT
DTSTART;TZID=America/New_York:20210708T190000
DTEND;TZID=America/New_York:20210708T230000
DTSTAMP:20260421T093243
CREATED:20210527T115511Z
LAST-MODIFIED:20210527T115511Z
UID:1739-1625770800-1625785200@www.debbrowningmusic.com
SUMMARY:DECKERZ July 8th
DESCRIPTION:
URL:https://www.debbrowningmusic.com/event/deckerz-july-8th/
LOCATION:DECKERZ\, 90 Hillside Drive\, North Myrtle Beach\, SC\, 29582\, United States
END:VEVENT
BEGIN:VEVENT
DTSTART;TZID=America/New_York:20210629T180000
DTEND;TZID=America/New_York:20210629T210000
DTSTAMP:20260421T093243
CREATED:20210505T195209Z
LAST-MODIFIED:20210505T195209Z
UID:1420-1624989600-1625000400@www.debbrowningmusic.com
SUMMARY:The Marina Bar & Grill June 29th
DESCRIPTION:
URL:https://www.debbrowningmusic.com/event/the-marina-bar-grill-june-29th/
LOCATION:The Marina Bar & Grill\, 2051 Bridge View Court\, Myrtle Beach\, SC\, 29577\, United States
END:VEVENT
BEGIN:VEVENT
DTSTART;TZID=America/New_York:20210627T170000
DTEND;TZID=America/New_York:20210627T200000
DTSTAMP:20260421T093243
CREATED:20210505T195042Z
LAST-MODIFIED:20210505T195042Z
UID:1418-1624813200-1624824000@www.debbrowningmusic.com
SUMMARY:Private Event Lightkeepers June 27th
DESCRIPTION:
URL:https://www.debbrowningmusic.com/event/private-event-lightkeepers-june-27th/
LOCATION:SC
END:VEVENT
BEGIN:VEVENT
DTSTART;TZID=America/New_York:20210626T180000
DTEND;TZID=America/New_York:20210626T210000
DTSTAMP:20260421T093243
CREATED:20210505T195002Z
LAST-MODIFIED:20210505T195002Z
UID:1416-1624730400-1624741200@www.debbrowningmusic.com
SUMMARY:World Of Beer June 26th
DESCRIPTION:
URL:https://www.debbrowningmusic.com/event/world-of-beer-june-26th/
LOCATION:World of Beer\, 1386 US 17 North\, North Myrtle Beach\, SC\, 29582\, United States
END:VEVENT
BEGIN:VEVENT
DTSTART;TZID=America/New_York:20210624T163000
DTEND;TZID=America/New_York:20210624T203000
DTSTAMP:20260421T093243
CREATED:20210505T194812Z
LAST-MODIFIED:20210505T194812Z
UID:1412-1624552200-1624566600@www.debbrowningmusic.com
SUMMARY:Patio's June 24th
DESCRIPTION:
URL:https://www.debbrowningmusic.com/event/patios-june-24th/
LOCATION:Patio’s\, 4495 Mineola Avenue\, Little River\, SC\, 29566\, United States
END:VEVENT
BEGIN:VEVENT
DTSTART;TZID=America/New_York:20210620T180000
DTEND;TZID=America/New_York:20210620T210000
DTSTAMP:20260421T093243
CREATED:20210505T194736Z
LAST-MODIFIED:20210505T194736Z
UID:1410-1624212000-1624222800@www.debbrowningmusic.com
SUMMARY:Buoy's On The Boulevard June 20
DESCRIPTION:
URL:https://www.debbrowningmusic.com/event/buoys-on-the-boulevard-june-20/
LOCATION:Buoy’s On The Blvd\, 935 Ocean BLVD\, North Myrtle Beach\, SC\, 29582\, United States
END:VEVENT
BEGIN:VEVENT
DTSTART;TZID=America/New_York:20210616T170000
DTEND;TZID=America/New_York:20210616T210000
DTSTAMP:20260421T093243
CREATED:20210505T194624Z
LAST-MODIFIED:20210505T194624Z
UID:1408-1623862800-1623877200@www.debbrowningmusic.com
SUMMARY:Mojo's Marina Bar & Grill June 16th
DESCRIPTION:
URL:https://www.debbrowningmusic.com/event/mojos-marina-bar-grill-june-16th/
LOCATION:Mojo’s Marina Bar & Grill\, 4139 Business US 17\, Murrells Inlet\, SC\, 29576\, United States
END:VEVENT
BEGIN:VEVENT
DTSTART;TZID=America/New_York:20210612T180000
DTEND;TZID=America/New_York:20210612T210000
DTSTAMP:20260421T093243
CREATED:20210505T194504Z
LAST-MODIFIED:20210505T194504Z
UID:1405-1623520800-1623531600@www.debbrowningmusic.com
SUMMARY:World Of Beer June 12th
DESCRIPTION:
URL:https://www.debbrowningmusic.com/event/world-of-beer-june-12th/
LOCATION:World of Beer\, 1386 US 17 North\, North Myrtle Beach\, SC\, 29582\, United States
END:VEVENT
BEGIN:VEVENT
DTSTART;TZID=America/New_York:20210606T180000
DTEND;TZID=America/New_York:20210606T210000
DTSTAMP:20260421T093243
CREATED:20210505T194340Z
LAST-MODIFIED:20210505T194340Z
UID:1402-1623002400-1623013200@www.debbrowningmusic.com
SUMMARY:Buoy's On The Boulevard June 6th
DESCRIPTION:
URL:https://www.debbrowningmusic.com/event/buoys-on-the-boulevard-june-6th/
LOCATION:Buoy’s On The Blvd\, 935 Ocean BLVD\, North Myrtle Beach\, SC\, 29582\, United States
END:VEVENT
BEGIN:VEVENT
DTSTART;TZID=America/New_York:20210605T170000
DTEND;TZID=America/New_York:20210605T200000
DTSTAMP:20260421T093243
CREATED:20210505T194156Z
LAST-MODIFIED:20210505T194156Z
UID:1400-1622912400-1622923200@www.debbrowningmusic.com
SUMMARY:Private Event - Riverlights Wilmington\, NC June 5
DESCRIPTION:
URL:https://www.debbrowningmusic.com/event/private-event-riverlights-wilmington-nc-june-5/
LOCATION:SC
END:VEVENT
BEGIN:VEVENT
DTSTART;TZID=America/New_York:20210529T170000
DTEND;TZID=America/New_York:20210529T200000
DTSTAMP:20260421T093243
CREATED:20210505T194107Z
LAST-MODIFIED:20210505T194107Z
UID:1398-1622307600-1622318400@www.debbrowningmusic.com
SUMMARY:Private Event - Elizabethtown\, NC - Pool Party May 29th
DESCRIPTION:
URL:https://www.debbrowningmusic.com/event/private-event-elizabethtown-nc-pool-party-may-29th/
LOCATION:SC
END:VEVENT
BEGIN:VEVENT
DTSTART;TZID=America/New_York:20210528T170000
DTEND;TZID=America/New_York:20210528T200000
DTSTAMP:20260421T093243
CREATED:20210505T194014Z
LAST-MODIFIED:20210505T194014Z
UID:1396-1622221200-1622232000@www.debbrowningmusic.com
SUMMARY:Private Event - Deck Party May 28th
DESCRIPTION:
URL:https://www.debbrowningmusic.com/event/private-event-deck-party-may-28th/
LOCATION:SC
END:VEVENT
BEGIN:VEVENT
DTSTART;TZID=America/New_York:20210526T160000
DTEND;TZID=America/New_York:20210526T200000
DTSTAMP:20260421T093243
CREATED:20210505T193911Z
LAST-MODIFIED:20210505T193911Z
UID:1393-1622044800-1622059200@www.debbrowningmusic.com
SUMMARY:Mojo's Marina Bar & Grill May 26th
DESCRIPTION:
URL:https://www.debbrowningmusic.com/event/mojos-marina-bar-grill-may-26th/
LOCATION:Mojo’s Marina Bar & Grill\, 4139 Business US 17\, Murrells Inlet\, SC\, 29576\, United States
ORGANIZER;CN="Deb Browning":MAILTO:debgrowningmusic@gmail.com
END:VEVENT
BEGIN:VEVENT
DTSTART;TZID=America/New_York:20210525T180000
DTEND;TZID=America/New_York:20210525T210000
DTSTAMP:20260421T093243
CREATED:20210505T193642Z
LAST-MODIFIED:20210505T193642Z
UID:1390-1621965600-1621976400@www.debbrowningmusic.com
SUMMARY:The Marina Bar & Grill May 25th
DESCRIPTION:
URL:https://www.debbrowningmusic.com/event/the-marina-bar-grill-may-25th/
LOCATION:The Marina Bar & Grill\, 2051 Bridge View Court\, Myrtle Beach\, SC\, 29577\, United States
END:VEVENT
BEGIN:VEVENT
DTSTART;TZID=America/New_York:20210521T180000
DTEND;TZID=America/New_York:20210521T210000
DTSTAMP:20260421T093243
CREATED:20210505T193450Z
LAST-MODIFIED:20210505T193450Z
UID:1387-1621620000-1621630800@www.debbrowningmusic.com
SUMMARY:American Legion May 21st
DESCRIPTION:
URL:https://www.debbrowningmusic.com/event/american-legion-may-21st/
LOCATION:American Legion\, 4285 Pine Drive\, Little River\, SC\, 29566\, United States
ORGANIZER;CN="Deb Browning":MAILTO:debgrowningmusic@gmail.com
END:VEVENT
BEGIN:VEVENT
DTSTART;TZID=America/New_York:20210520T163000
DTEND;TZID=America/New_York:20210520T203000
DTSTAMP:20260421T093243
CREATED:20210505T193218Z
LAST-MODIFIED:20210505T193218Z
UID:1385-1621528200-1621542600@www.debbrowningmusic.com
SUMMARY:Patio's May 20th
DESCRIPTION:
URL:https://www.debbrowningmusic.com/event/patios-may-20th/
LOCATION:Patio’s\, 4495 Mineola Avenue\, Little River\, SC\, 29566\, United States
ORGANIZER;CN="Deb Browning":MAILTO:debgrowningmusic@gmail.com
END:VEVENT
BEGIN:VEVENT
DTSTART;TZID=America/New_York:20210517T190000
DTEND;TZID=America/New_York:20210517T220000
DTSTAMP:20260421T093243
CREATED:20210505T193057Z
LAST-MODIFIED:20210505T193057Z
UID:1382-1621278000-1621288800@www.debbrowningmusic.com
SUMMARY:DECKERZ May 17th
DESCRIPTION:
URL:https://www.debbrowningmusic.com/event/deckerz-may-17th/
LOCATION:DECKERZ\, 90 Hillside Drive\, North Myrtle Beach\, SC\, 29582\, United States
ORGANIZER;CN="Deb Browning":MAILTO:debgrowningmusic@gmail.com
END:VEVENT
BEGIN:VEVENT
DTSTART;TZID=America/New_York:20210515T150000
DTEND;TZID=America/New_York:20210515T170000
DTSTAMP:20260421T093243
CREATED:20210505T192615Z
LAST-MODIFIED:20210505T192615Z
UID:1378-1621090800-1621098000@www.debbrowningmusic.com
SUMMARY:Surf City Bridge Jam May 15th
DESCRIPTION:Lots of food\, vendors\, and fun for the family. Bring a chair!
URL:https://www.debbrowningmusic.com/event/surf-city-bridge-jam-may-15th/
LOCATION:Southside Park\, 513 Roland Avenue\, Surf City\, NC\, United States
END:VEVENT
BEGIN:VEVENT
DTSTART;TZID=America/New_York:20210510T163000
DTEND;TZID=America/New_York:20210510T203000
DTSTAMP:20260421T093243
CREATED:20210505T191743Z
LAST-MODIFIED:20210505T191823Z
UID:1370-1620664200-1620678600@www.debbrowningmusic.com
SUMMARY:Patio's Tiki Bar and Grill May 10th
DESCRIPTION:Deb and Jolly Mon on the deck at Patio’s
URL:https://www.debbrowningmusic.com/event/patios-tiki-bar-and-grill-may-10th/
LOCATION:Patio’s\, 4495 Mineola Avenue\, Little River\, SC\, 29566\, United States
ORGANIZER;CN="Deb Browning":MAILTO:debgrowningmusic@gmail.com
END:VEVENT
END:VCALENDAR