BEGIN:VCALENDAR
VERSION:2.0
PRODID:-//Deb Browning Music - ECPv6.15.17.1//NONSGML v1.0//EN
CALSCALE:GREGORIAN
METHOD:PUBLISH
X-ORIGINAL-URL:https://www.debbrowningmusic.com
X-WR-CALDESC:Events for Deb Browning Music
REFRESH-INTERVAL;VALUE=DURATION:PT1H
X-Robots-Tag:noindex
X-PUBLISHED-TTL:PT1H
BEGIN:VTIMEZONE
TZID:America/New_York
BEGIN:DAYLIGHT
TZOFFSETFROM:-0500
TZOFFSETTO:-0400
TZNAME:EDT
DTSTART:20240310T070000
END:DAYLIGHT
BEGIN:STANDARD
TZOFFSETFROM:-0400
TZOFFSETTO:-0500
TZNAME:EST
DTSTART:20241103T060000
END:STANDARD
BEGIN:DAYLIGHT
TZOFFSETFROM:-0500
TZOFFSETTO:-0400
TZNAME:EDT
DTSTART:20250309T070000
END:DAYLIGHT
BEGIN:STANDARD
TZOFFSETFROM:-0400
TZOFFSETTO:-0500
TZNAME:EST
DTSTART:20251102T060000
END:STANDARD
BEGIN:DAYLIGHT
TZOFFSETFROM:-0500
TZOFFSETTO:-0400
TZNAME:EDT
DTSTART:20260308T070000
END:DAYLIGHT
BEGIN:STANDARD
TZOFFSETFROM:-0400
TZOFFSETTO:-0500
TZNAME:EST
DTSTART:20261101T060000
END:STANDARD
END:VTIMEZONE
BEGIN:VEVENT
DTSTART;TZID=America/New_York:20250115T180000
DTEND;TZID=America/New_York:20250115T210000
DTSTAMP:20260424T123738
CREATED:20241017T201508Z
LAST-MODIFIED:20241017T201508Z
UID:3465-1736964000-1736974800@www.debbrowningmusic.com
SUMMARY:DECKERZ: SOS KickOff Party - January 15th
DESCRIPTION:
URL:https://www.debbrowningmusic.com/event/deckerz-sos-kickoff-party-january-15th/
LOCATION:DECKERZ\, 90 Hillside Drive\, North Myrtle Beach\, SC\, 29582\, United States
END:VEVENT
BEGIN:VEVENT
DTSTART;TZID=America/New_York:20250124T173000
DTEND;TZID=America/New_York:20250124T203000
DTSTAMP:20260424T123738
CREATED:20241014T171239Z
LAST-MODIFIED:20241014T171239Z
UID:3458-1737739800-1737750600@www.debbrowningmusic.com
SUMMARY:American Legion - January 24th
DESCRIPTION:
URL:https://www.debbrowningmusic.com/event/american-legion-january-24th/
LOCATION:American Legion\, 4285 Pine Drive\, Little River\, SC\, 29566\, United States
END:VEVENT
BEGIN:VEVENT
DTSTART;TZID=America/New_York:20250130T170000
DTEND;TZID=America/New_York:20250130T200000
DTSTAMP:20260424T123738
CREATED:20241213T040119Z
LAST-MODIFIED:20241213T040119Z
UID:3474-1738256400-1738267200@www.debbrowningmusic.com
SUMMARY:Sugrue’s Pub & Eatery - January 30th
DESCRIPTION:
URL:https://www.debbrowningmusic.com/event/sugrues-pub-eatery-january-30th/
LOCATION:Sugrue’s Pub & Eatery\, 1200 Highway 17 South\, North Myrtle Beach\, SC\, 29582\, United States
END:VEVENT
END:VCALENDAR