BEGIN:VCALENDAR
VERSION:2.0
PRODID:-//Deb Browning Music - ECPv6.15.17.1//NONSGML v1.0//EN
CALSCALE:GREGORIAN
METHOD:PUBLISH
X-ORIGINAL-URL:https://www.debbrowningmusic.com
X-WR-CALDESC:Events for Deb Browning Music
REFRESH-INTERVAL;VALUE=DURATION:PT1H
X-Robots-Tag:noindex
X-PUBLISHED-TTL:PT1H
BEGIN:VTIMEZONE
TZID:America/New_York
BEGIN:DAYLIGHT
TZOFFSETFROM:-0500
TZOFFSETTO:-0400
TZNAME:EDT
DTSTART:20240310T070000
END:DAYLIGHT
BEGIN:STANDARD
TZOFFSETFROM:-0400
TZOFFSETTO:-0500
TZNAME:EST
DTSTART:20241103T060000
END:STANDARD
BEGIN:DAYLIGHT
TZOFFSETFROM:-0500
TZOFFSETTO:-0400
TZNAME:EDT
DTSTART:20250309T070000
END:DAYLIGHT
BEGIN:STANDARD
TZOFFSETFROM:-0400
TZOFFSETTO:-0500
TZNAME:EST
DTSTART:20251102T060000
END:STANDARD
BEGIN:DAYLIGHT
TZOFFSETFROM:-0500
TZOFFSETTO:-0400
TZNAME:EDT
DTSTART:20260308T070000
END:DAYLIGHT
BEGIN:STANDARD
TZOFFSETFROM:-0400
TZOFFSETTO:-0500
TZNAME:EST
DTSTART:20261101T060000
END:STANDARD
END:VTIMEZONE
BEGIN:VEVENT
DTSTART;TZID=America/New_York:20250307T190000
DTEND;TZID=America/New_York:20250309T210000
DTSTAMP:20260424T090952
CREATED:20250207T162839Z
LAST-MODIFIED:20250207T163205Z
UID:3510-1741374000-1741554000@www.debbrowningmusic.com
SUMMARY:Old Dominion Barn * Hopewell\, VA * Marlisa Kay Small - March 7\,8\,9
DESCRIPTION:
URL:https://www.debbrowningmusic.com/event/old-dominion-barn-hopewell-va-marlisa-kay-small-march-789/
END:VEVENT
BEGIN:VEVENT
DTSTART;TZID=America/New_York:20250319T180000
DTEND;TZID=America/New_York:20250319T210000
DTSTAMP:20260424T090952
CREATED:20241213T040621Z
LAST-MODIFIED:20250319T175230Z
UID:3480-1742407200-1742418000@www.debbrowningmusic.com
SUMMARY:DECKERZ - March 19th
DESCRIPTION:
URL:https://www.debbrowningmusic.com/event/deckerz-march-19th/
LOCATION:DECKERZ\, 90 Hillside Drive\, North Myrtle Beach\, SC\, 29582\, United States
END:VEVENT
BEGIN:VEVENT
DTSTART;TZID=America/New_York:20250321T180000
DTEND;TZID=America/New_York:20250321T210000
DTSTAMP:20260424T090952
CREATED:20250127T184325Z
LAST-MODIFIED:20250127T184325Z
UID:3493-1742580000-1742590800@www.debbrowningmusic.com
SUMMARY:Goodfellas On 2nd - March 21st
DESCRIPTION:
URL:https://www.debbrowningmusic.com/event/goodfellas-on-2nd-march-21st/
LOCATION:Mother Tucker’s Pour House\, 1021 2nd Ave N\, North Myrtle Beach\, SC\, 29582
END:VEVENT
BEGIN:VEVENT
DTSTART;TZID=America/New_York:20250328T173000
DTEND;TZID=America/New_York:20250328T203000
DTSTAMP:20260424T090952
CREATED:20241014T171439Z
LAST-MODIFIED:20241014T171439Z
UID:3462-1743183000-1743193800@www.debbrowningmusic.com
SUMMARY:American Legion - March 28th
DESCRIPTION:
URL:https://www.debbrowningmusic.com/event/american-legion-march-28th/
LOCATION:American Legion\, 4285 Pine Drive\, Little River\, SC\, 29566\, United States
END:VEVENT
END:VCALENDAR