BEGIN:VCALENDAR
VERSION:2.0
PRODID:-//Deb Browning Music - ECPv6.15.17.1//NONSGML v1.0//EN
CALSCALE:GREGORIAN
METHOD:PUBLISH
X-WR-CALNAME:Deb Browning Music
X-ORIGINAL-URL:https://www.debbrowningmusic.com
X-WR-CALDESC:Events for Deb Browning Music
REFRESH-INTERVAL;VALUE=DURATION:PT1H
X-Robots-Tag:noindex
X-PUBLISHED-TTL:PT1H
BEGIN:VTIMEZONE
TZID:America/New_York
BEGIN:DAYLIGHT
TZOFFSETFROM:-0500
TZOFFSETTO:-0400
TZNAME:EDT
DTSTART:20240310T070000
END:DAYLIGHT
BEGIN:STANDARD
TZOFFSETFROM:-0400
TZOFFSETTO:-0500
TZNAME:EST
DTSTART:20241103T060000
END:STANDARD
BEGIN:DAYLIGHT
TZOFFSETFROM:-0500
TZOFFSETTO:-0400
TZNAME:EDT
DTSTART:20250309T070000
END:DAYLIGHT
BEGIN:STANDARD
TZOFFSETFROM:-0400
TZOFFSETTO:-0500
TZNAME:EST
DTSTART:20251102T060000
END:STANDARD
BEGIN:DAYLIGHT
TZOFFSETFROM:-0500
TZOFFSETTO:-0400
TZNAME:EDT
DTSTART:20260308T070000
END:DAYLIGHT
BEGIN:STANDARD
TZOFFSETFROM:-0400
TZOFFSETTO:-0500
TZNAME:EST
DTSTART:20261101T060000
END:STANDARD
END:VTIMEZONE
BEGIN:VEVENT
DTSTART;TZID=America/New_York:20250509T173000
DTEND;TZID=America/New_York:20250509T200000
DTSTAMP:20260424T055343
CREATED:20250207T160840Z
LAST-MODIFIED:20250402T192103Z
UID:3503-1746811800-1746820800@www.debbrowningmusic.com
SUMMARY:Private Patio Party @ The Surf Club - May 9th
DESCRIPTION:
URL:https://www.debbrowningmusic.com/event/private-patio-party-the-surf-club-may-19th/
END:VEVENT
BEGIN:VEVENT
DTSTART;TZID=America/New_York:20250522T170000
DTEND;TZID=America/New_York:20250522T200000
DTSTAMP:20260424T055343
CREATED:20250428T201534Z
LAST-MODIFIED:20250428T201534Z
UID:3546-1747933200-1747944000@www.debbrowningmusic.com
SUMMARY:Sugrue’s Pub & Eatery - May 22nd
DESCRIPTION:
URL:https://www.debbrowningmusic.com/event/sugrues-pub-eatery-may-22nd/
LOCATION:Sugrue’s Pub & Eatery\, 1200 Highway 17 South\, North Myrtle Beach\, SC\, 29582\, United States
END:VEVENT
BEGIN:VEVENT
DTSTART;TZID=America/New_York:20250524T160000
DTEND;TZID=America/New_York:20250524T190000
DTSTAMP:20260424T055343
CREATED:20250319T175428Z
LAST-MODIFIED:20250319T175428Z
UID:3523-1748102400-1748113200@www.debbrowningmusic.com
SUMMARY:Private Party Brunswick Plantation - May 24th
DESCRIPTION:
URL:https://www.debbrowningmusic.com/event/private-party-brunswick-plantation-may-24th/
END:VEVENT
END:VCALENDAR