BEGIN:VCALENDAR
VERSION:2.0
PRODID:-//Deb Browning Music - ECPv6.15.17.1//NONSGML v1.0//EN
CALSCALE:GREGORIAN
METHOD:PUBLISH
X-ORIGINAL-URL:https://www.debbrowningmusic.com
X-WR-CALDESC:Events for Deb Browning Music
REFRESH-INTERVAL;VALUE=DURATION:PT1H
X-Robots-Tag:noindex
X-PUBLISHED-TTL:PT1H
BEGIN:VTIMEZONE
TZID:America/New_York
BEGIN:DAYLIGHT
TZOFFSETFROM:-0500
TZOFFSETTO:-0400
TZNAME:EDT
DTSTART:20240310T070000
END:DAYLIGHT
BEGIN:STANDARD
TZOFFSETFROM:-0400
TZOFFSETTO:-0500
TZNAME:EST
DTSTART:20241103T060000
END:STANDARD
BEGIN:DAYLIGHT
TZOFFSETFROM:-0500
TZOFFSETTO:-0400
TZNAME:EDT
DTSTART:20250309T070000
END:DAYLIGHT
BEGIN:STANDARD
TZOFFSETFROM:-0400
TZOFFSETTO:-0500
TZNAME:EST
DTSTART:20251102T060000
END:STANDARD
BEGIN:DAYLIGHT
TZOFFSETFROM:-0500
TZOFFSETTO:-0400
TZNAME:EDT
DTSTART:20260308T070000
END:DAYLIGHT
BEGIN:STANDARD
TZOFFSETFROM:-0400
TZOFFSETTO:-0500
TZNAME:EST
DTSTART:20261101T060000
END:STANDARD
END:VTIMEZONE
BEGIN:VEVENT
DTSTART;TZID=America/New_York:20250704T160000
DTEND;TZID=America/New_York:20250704T190000
DTSTAMP:20260422T114713
CREATED:20250417T045906Z
LAST-MODIFIED:20250417T045906Z
UID:3543-1751644800-1751655600@www.debbrowningmusic.com
SUMMARY:Private Pool Party Charleston Landing - July 4th
DESCRIPTION:
URL:https://www.debbrowningmusic.com/event/private-pool-party-charleston-landing-july-4th/
END:VEVENT
BEGIN:VEVENT
DTSTART;TZID=America/New_York:20250707T190000
DTEND;TZID=America/New_York:20250707T220000
DTSTAMP:20260422T114713
CREATED:20250706T034225Z
LAST-MODIFIED:20250706T034225Z
UID:3636-1751914800-1751925600@www.debbrowningmusic.com
SUMMARY:DECKERZ * Deb Browning & Tim Sidden - July 7th
DESCRIPTION:
URL:https://www.debbrowningmusic.com/event/deckerz-deb-browning-tim-sidden-july-7th/
LOCATION:DECKERZ\, 90 Hillside Drive\, North Myrtle Beach\, SC\, 29582\, United States
END:VEVENT
BEGIN:VEVENT
DTSTART;TZID=America/New_York:20250709T180000
DTEND;TZID=America/New_York:20250709T210000
DTSTAMP:20260422T114713
CREATED:20250527T195951Z
LAST-MODIFIED:20250527T195951Z
UID:3556-1752084000-1752094800@www.debbrowningmusic.com
SUMMARY:Goodfellas on 2nd - July 9th
DESCRIPTION:
URL:https://www.debbrowningmusic.com/event/goodfellas-on-2nd-july-9th/
LOCATION:Mother Tucker’s Pour House\, 1021 2nd Ave N\, North Myrtle Beach\, SC\, 29582
END:VEVENT
BEGIN:VEVENT
DTSTART;TZID=America/New_York:20250724T130000
DTEND;TZID=America/New_York:20250724T140000
DTSTAMP:20260422T114713
CREATED:20250602T132030Z
LAST-MODIFIED:20250607T121500Z
UID:3619-1753362000-1753365600@www.debbrowningmusic.com
SUMMARY:River Park Senior Living - July 24th
DESCRIPTION:
URL:https://www.debbrowningmusic.com/event/river-park-senior-living-june-26th/
END:VEVENT
END:VCALENDAR